Package: rqubic Version: 1.54.0 Command: /Library/Frameworks/R.framework/Resources/bin/R CMD INSTALL rqubic StartedAt: 2025-04-21 15:12:22 -0400 (Mon, 21 Apr 2025) EndedAt: 2025-04-21 15:12:45 -0400 (Mon, 21 Apr 2025) EllapsedTime: 22.2 seconds RetCode: 0 Status: OK