Package: rqubic Version: 1.54.0 Command: rm -rf rqubic.buildbin-libdir && mkdir rqubic.buildbin-libdir && /Users/biocbuild/BBS/utils/build-universal.sh rqubic_1.54.0.tar.gz /Library/Frameworks/R.framework/Resources/bin/R rqubic.buildbin-libdir StartedAt: 2025-04-22 01:05:32 -0400 (Tue, 22 Apr 2025) EndedAt: 2025-04-22 01:05:51 -0400 (Tue, 22 Apr 2025) EllapsedTime: 19.6 seconds RetCode: 0 Status: OK PackageFile: rqubic_1.54.0.tgz PackageFileSize: 437.5 KiB