Package: rqubic Version: 1.54.0 Command: /home/biocbuild/R/R/bin/R CMD check --install=check:rqubic.install-out.txt --library=/home/biocbuild/R/R/site-library --no-vignettes --timings rqubic_1.54.0.tar.gz StartedAt: 2025-10-14 13:34:31 -0000 (Tue, 14 Oct 2025) EndedAt: 2025-10-14 13:35:52 -0000 (Tue, 14 Oct 2025) EllapsedTime: 81.1 seconds RetCode: 0 Status: WARNINGS CheckDir: rqubic.Rcheck Warnings: 1