Package: rqubic Version: 1.54.0 Command: rm -rf rqubic.buildbin-libdir && mkdir rqubic.buildbin-libdir && /Users/biocbuild/BBS/utils/build-universal.sh rqubic_1.54.0.tar.gz /Library/Frameworks/R.framework/Resources/bin/R rqubic.buildbin-libdir StartedAt: 2025-04-21 22:50:02 -0400 (Mon, 21 Apr 2025) EndedAt: 2025-04-21 22:50:07 -0400 (Mon, 21 Apr 2025) EllapsedTime: 5.1 seconds RetCode: 0 Status: OK PackageFile: rqubic_1.54.0.tgz PackageFileSize: 436.3 KiB