Package: rqubic Version: 1.54.0 Command: /Library/Frameworks/R.framework/Resources/bin/R CMD check --install=check:rqubic.install-out.txt --library=/Library/Frameworks/R.framework/Resources/library --no-vignettes --timings rqubic_1.54.0.tar.gz StartedAt: 2025-10-15 10:30:10 -0400 (Wed, 15 Oct 2025) EndedAt: 2025-10-15 10:31:27 -0400 (Wed, 15 Oct 2025) EllapsedTime: 77.4 seconds RetCode: 0 Status: OK CheckDir: rqubic.Rcheck Warnings: 0