Package: rqt Version: 1.34.0 Command: chmod a+r rqt -R && E:\biocbuild\bbs-3.21-bioc\R\bin\R.exe CMD build --keep-empty-dirs --no-resave-data rqt StartedAt: 2025-08-14 21:51:44 -0400 (Thu, 14 Aug 2025) EndedAt: 2025-08-14 21:52:57 -0400 (Thu, 14 Aug 2025) EllapsedTime: 73.7 seconds RetCode: 0 Status: OK PackageFile: rqt_1.34.0.tar.gz PackageFileSize: 541.3 KiB