Package: rqt Version: 1.34.0 Command: rm -rf rqt.buildbin-libdir && mkdir rqt.buildbin-libdir && E:\biocbuild\bbs-3.21-bioc\R\bin\R.exe CMD INSTALL --build --library=rqt.buildbin-libdir rqt_1.34.0.tar.gz StartedAt: 2025-08-15 10:09:31 -0400 (Fri, 15 Aug 2025) EndedAt: 2025-08-15 10:10:28 -0400 (Fri, 15 Aug 2025) EllapsedTime: 57.1 seconds RetCode: 0 Status: OK PackageFile: rqt_1.34.0.zip PackageFileSize: 886.6 KiB