Package: rqt Version: 1.34.0 Command: /Library/Frameworks/R.framework/Resources/bin/R CMD INSTALL rqt StartedAt: 2025-04-21 15:13:18 -0400 (Mon, 21 Apr 2025) EndedAt: 2025-04-21 15:13:29 -0400 (Mon, 21 Apr 2025) EllapsedTime: 11.2 seconds RetCode: 0 Status: OK