Package: rqt Version: 1.34.0 Command: /Library/Frameworks/R.framework/Resources/bin/R CMD INSTALL rqt StartedAt: 2025-10-13 16:21:18 -0400 (Mon, 13 Oct 2025) EndedAt: 2025-10-13 16:21:50 -0400 (Mon, 13 Oct 2025) EllapsedTime: 31.9 seconds RetCode: 0 Status: OK