Package: rpx Version: 2.16.0 Command: /home/biocbuild/bbs-3.21-bioc/R/bin/R CMD check --install=check:rpx.install-out.txt --library=/home/biocbuild/bbs-3.21-bioc/R/site-library --timings rpx_2.16.0.tar.gz StartedAt: 2025-10-16 03:02:48 -0400 (Thu, 16 Oct 2025) EndedAt: 2025-10-16 03:03:45 -0400 (Thu, 16 Oct 2025) EllapsedTime: 57.1 seconds RetCode: 1 Status: ERROR CheckDir: rpx.Rcheck Warnings: NA