Package: rpx Version: 2.16.0 Command: /home/biocbuild/R/R/bin/R CMD check --install=check:rpx.install-out.txt --library=/home/biocbuild/R/R/site-library --no-vignettes --timings rpx_2.16.0.tar.gz StartedAt: 2025-10-14 13:33:21 -0000 (Tue, 14 Oct 2025) EndedAt: 2025-10-14 13:34:45 -0000 (Tue, 14 Oct 2025) EllapsedTime: 84.1 seconds RetCode: 1 Status: ERROR CheckDir: rpx.Rcheck Warnings: NA