Package: rpx Version: 2.16.0 Command: /Library/Frameworks/R.framework/Resources/bin/R CMD check --install=check:rpx.install-out.txt --library=/Library/Frameworks/R.framework/Resources/library --no-vignettes --timings rpx_2.16.0.tar.gz StartedAt: 2025-10-15 10:28:08 -0400 (Wed, 15 Oct 2025) EndedAt: 2025-10-15 10:29:11 -0400 (Wed, 15 Oct 2025) EllapsedTime: 62.8 seconds RetCode: 0 Status: OK CheckDir: rpx.Rcheck Warnings: 0