Package: rpx Version: 2.16.0 Command: /Library/Frameworks/R.framework/Resources/bin/R CMD build --keep-empty-dirs --no-resave-data rpx StartedAt: 2025-10-14 08:09:31 -0400 (Tue, 14 Oct 2025) EndedAt: 2025-10-14 08:09:48 -0400 (Tue, 14 Oct 2025) EllapsedTime: 17.1 seconds RetCode: 0 Status: OK PackageFile: rpx_2.16.0.tar.gz PackageFileSize: 316.7 KiB