Package: rprimer Version: 1.12.0 Command: /home/biocbuild/bbs-3.21-bioc/R/bin/R CMD build --keep-empty-dirs --no-resave-data rprimer StartedAt: 2025-10-15 19:34:53 -0400 (Wed, 15 Oct 2025) EndedAt: 2025-10-15 19:35:56 -0400 (Wed, 15 Oct 2025) EllapsedTime: 63.1 seconds RetCode: 0 Status: OK PackageFile: rprimer_1.12.0.tar.gz PackageFileSize: 3.1 MiB