Package: rprimer Version: 1.12.0 Command: /Library/Frameworks/R.framework/Resources/bin/R CMD INSTALL rprimer StartedAt: 2025-10-13 15:55:51 -0400 (Mon, 13 Oct 2025) EndedAt: 2025-10-13 15:56:34 -0400 (Mon, 13 Oct 2025) EllapsedTime: 43.0 seconds RetCode: 0 Status: OK