Package: rprimer Version: 1.12.0 Command: /Library/Frameworks/R.framework/Resources/bin/R CMD build --keep-empty-dirs --no-resave-data rprimer StartedAt: 2025-10-14 08:09:23 -0400 (Tue, 14 Oct 2025) EndedAt: 2025-10-14 08:10:40 -0400 (Tue, 14 Oct 2025) EllapsedTime: 76.6 seconds RetCode: 0 Status: OK PackageFile: rprimer_1.12.0.tar.gz PackageFileSize: 3.282 MiB