Package: rols Version: 3.4.0 Command: E:\biocbuild\bbs-3.21-bioc\R\bin\R.exe CMD INSTALL rols StartedAt: 2025-08-14 15:44:23 -0400 (Thu, 14 Aug 2025) EndedAt: 2025-08-14 15:44:52 -0400 (Thu, 14 Aug 2025) EllapsedTime: 28.2 seconds RetCode: 0 Status: OK