Package: rols Version: 3.4.0 Command: rm -rf rols.buildbin-libdir && mkdir rols.buildbin-libdir && E:\biocbuild\bbs-3.21-bioc\R\bin\R.exe CMD INSTALL --build --library=rols.buildbin-libdir rols_3.4.0.tar.gz StartedAt: 2025-08-15 10:09:03 -0400 (Fri, 15 Aug 2025) EndedAt: 2025-08-15 10:09:36 -0400 (Fri, 15 Aug 2025) EllapsedTime: 32.3 seconds RetCode: 0 Status: OK PackageFile: rols_3.4.0.zip PackageFileSize: 657.5 KiB