Package: rols Version: 3.4.0 Command: /home/biocbuild/bbs-3.21-bioc/R/bin/R CMD build --keep-empty-dirs --no-resave-data rols StartedAt: 2025-10-08 19:32:52 -0400 (Wed, 08 Oct 2025) EndedAt: 2025-10-08 19:33:03 -0400 (Wed, 08 Oct 2025) EllapsedTime: 11.0 seconds RetCode: 1 Status: ERROR PackageFile: None PackageFileSize: NA