Package: rols Version: 3.4.0 Command: /Library/Frameworks/R.framework/Resources/bin/R CMD check --install=check:rols.install-out.txt --library=/Library/Frameworks/R.framework/Resources/library --no-vignettes --timings rols_3.4.0.tar.gz StartedAt: 2025-04-21 23:09:17 -0400 (Mon, 21 Apr 2025) EndedAt: 2025-04-21 23:11:23 -0400 (Mon, 21 Apr 2025) EllapsedTime: 125.5 seconds RetCode: 0 Status: OK CheckDir: rols.Rcheck Warnings: 0