Package: rols Version: 3.4.0 Command: /home/biocbuild/R/R/bin/R CMD INSTALL rols StartedAt: 2025-10-06 20:25:12 -0000 (Mon, 06 Oct 2025) EndedAt: 2025-10-06 20:25:21 -0000 (Mon, 06 Oct 2025) EllapsedTime: 9.3 seconds RetCode: 0 Status: OK