Package: rols Version: 3.4.0 Command: /Library/Frameworks/R.framework/Resources/bin/R CMD INSTALL rols StartedAt: 2025-04-21 15:07:43 -0400 (Mon, 21 Apr 2025) EndedAt: 2025-04-21 15:07:46 -0400 (Mon, 21 Apr 2025) EllapsedTime: 2.2 seconds RetCode: 0 Status: OK