Package: rols Version: 3.4.0 Command: rm -rf rols.buildbin-libdir && mkdir rols.buildbin-libdir && /Users/biocbuild/BBS/utils/build-universal.sh rols_3.4.0.tar.gz /Library/Frameworks/R.framework/Resources/bin/R rols.buildbin-libdir StartedAt: 2025-04-21 22:49:53 -0400 (Mon, 21 Apr 2025) EndedAt: 2025-04-21 22:49:56 -0400 (Mon, 21 Apr 2025) EllapsedTime: 3.1 seconds RetCode: 0 Status: OK PackageFile: rols_3.4.0.tgz PackageFileSize: 654 KiB