Package: rols Version: 3.4.0 Command: /Library/Frameworks/R.framework/Resources/bin/R CMD INSTALL rols StartedAt: 2025-10-06 15:57:54 -0400 (Mon, 06 Oct 2025) EndedAt: 2025-10-06 15:58:05 -0400 (Mon, 06 Oct 2025) EllapsedTime: 10.4 seconds RetCode: 0 Status: OK