Package: rols Version: 3.4.0 Command: /Library/Frameworks/R.framework/Resources/bin/R CMD build --keep-empty-dirs --no-resave-data rols StartedAt: 2025-10-03 08:01:34 -0400 (Fri, 03 Oct 2025) EndedAt: 2025-10-03 08:01:46 -0400 (Fri, 03 Oct 2025) EllapsedTime: 12.6 seconds RetCode: 1 Status: ERROR PackageFile: None PackageFileSize: NA