Package: roastgsa Version: 1.6.0 Command: E:\biocbuild\bbs-3.21-bioc\R\bin\R.exe CMD check --no-multiarch --install=check:roastgsa.install-out.txt --library=E:\biocbuild\bbs-3.21-bioc\R\library --no-vignettes --timings roastgsa_1.6.0.tar.gz StartedAt: 2025-08-15 06:16:17 -0400 (Fri, 15 Aug 2025) EndedAt: 2025-08-15 06:17:35 -0400 (Fri, 15 Aug 2025) EllapsedTime: 78.0 seconds RetCode: 0 Status: OK CheckDir: roastgsa.Rcheck Warnings: 0