Package: roastgsa Version: 1.6.0 Command: rm -rf roastgsa.buildbin-libdir && mkdir roastgsa.buildbin-libdir && E:\biocbuild\bbs-3.21-bioc\R\bin\R.exe CMD INSTALL --build --library=roastgsa.buildbin-libdir roastgsa_1.6.0.tar.gz StartedAt: 2025-08-15 10:08:51 -0400 (Fri, 15 Aug 2025) EndedAt: 2025-08-15 10:09:09 -0400 (Fri, 15 Aug 2025) EllapsedTime: 18.5 seconds RetCode: 0 Status: OK PackageFile: roastgsa_1.6.0.zip PackageFileSize: 1.609 MiB