Package: roastgsa Version: 1.6.0 Command: /Library/Frameworks/R.framework/Resources/bin/R CMD INSTALL roastgsa StartedAt: 2025-10-13 15:56:09 -0400 (Mon, 13 Oct 2025) EndedAt: 2025-10-13 15:56:19 -0400 (Mon, 13 Oct 2025) EllapsedTime: 9.8 seconds RetCode: 0 Status: OK