Package: rnaEditr Version: 1.18.0 Command: rm -rf rnaEditr.buildbin-libdir && mkdir rnaEditr.buildbin-libdir && E:\biocbuild\bbs-3.21-bioc\R\bin\R.exe CMD INSTALL --build --library=rnaEditr.buildbin-libdir rnaEditr_1.18.0.tar.gz StartedAt: 2025-08-15 10:08:12 -0400 (Fri, 15 Aug 2025) EndedAt: 2025-08-15 10:09:02 -0400 (Fri, 15 Aug 2025) EllapsedTime: 49.5 seconds RetCode: 0 Status: OK PackageFile: rnaEditr_1.18.0.zip PackageFileSize: 1.016 MiB