Package: rmelting Version: 1.24.0 Command: /Library/Frameworks/R.framework/Resources/bin/R CMD build --keep-empty-dirs --no-resave-data rmelting StartedAt: 2025-04-21 17:27:33 -0400 (Mon, 21 Apr 2025) EndedAt: 2025-04-21 17:27:46 -0400 (Mon, 21 Apr 2025) EllapsedTime: 13.1 seconds RetCode: 0 Status: OK PackageFile: rmelting_1.24.0.tar.gz PackageFileSize: 2.488 MiB