Package: rigvf Version: 1.0.2 Command: /Library/Frameworks/R.framework/Resources/bin/R CMD INSTALL rigvf StartedAt: 2025-10-06 15:24:54 -0400 (Mon, 06 Oct 2025) EndedAt: 2025-10-06 15:25:18 -0400 (Mon, 06 Oct 2025) EllapsedTime: 23.4 seconds RetCode: 0 Status: OK