Package: rigvf Version: 1.0.2 Command: /Library/Frameworks/R.framework/Resources/bin/R CMD build --keep-empty-dirs --no-resave-data rigvf StartedAt: 2025-10-06 22:00:37 -0400 (Mon, 06 Oct 2025) EndedAt: 2025-10-06 22:02:09 -0400 (Mon, 06 Oct 2025) EllapsedTime: 92.4 seconds RetCode: 1 Status: ERROR PackageFile: None PackageFileSize: NA