Package: rigvf Version: 1.0.2 Command: rm -rf rigvf.buildbin-libdir && mkdir rigvf.buildbin-libdir && /Users/biocbuild/BBS/utils/build-universal.sh rigvf_1.0.2.tar.gz /Library/Frameworks/R.framework/Resources/bin/R rigvf.buildbin-libdir StartedAt: 2025-10-03 14:21:48 -0400 (Fri, 03 Oct 2025) EndedAt: 2025-10-03 14:22:20 -0400 (Fri, 03 Oct 2025) EllapsedTime: 31.7 seconds RetCode: 0 Status: OK PackageFile: rigvf_1.0.2.tgz PackageFileSize: 240.1 KiB