Package: rifiComparative Version: 1.8.0 Command: /Library/Frameworks/R.framework/Resources/bin/R CMD check --install=check:rifiComparative.install-out.txt --library=/Library/Frameworks/R.framework/Resources/library --no-vignettes --timings rifiComparative_1.8.0.tar.gz StartedAt: 2025-09-26 09:02:39 -0400 (Fri, 26 Sep 2025) EndedAt: 2025-09-26 09:34:05 -0400 (Fri, 26 Sep 2025) EllapsedTime: 1885.8 seconds RetCode: 0 Status: OK CheckDir: rifiComparative.Rcheck Warnings: 0