Package: ribor Version: 1.20.0 Command: /home/biocbuild/bbs-3.21-bioc/R/bin/R CMD INSTALL ribor StartedAt: 2025-10-15 15:13:43 -0400 (Wed, 15 Oct 2025) EndedAt: 2025-10-15 15:13:52 -0400 (Wed, 15 Oct 2025) EllapsedTime: 8.8 seconds RetCode: 0 Status: OK