Package: riboSeqR Version: 1.42.0 Command: chmod a+r riboSeqR -R && E:\biocbuild\bbs-3.21-bioc\R\bin\R.exe CMD build --keep-empty-dirs --no-resave-data riboSeqR StartedAt: 2025-08-14 21:45:52 -0400 (Thu, 14 Aug 2025) EndedAt: 2025-08-14 21:46:47 -0400 (Thu, 14 Aug 2025) EllapsedTime: 54.6 seconds RetCode: 0 Status: OK PackageFile: riboSeqR_1.42.0.tar.gz PackageFileSize: 3.65 MiB