Package: riboSeqR Version: 1.42.0 Command: rm -rf riboSeqR.buildbin-libdir && mkdir riboSeqR.buildbin-libdir && E:\biocbuild\bbs-3.21-bioc\R\bin\R.exe CMD INSTALL --build --library=riboSeqR.buildbin-libdir riboSeqR_1.42.0.tar.gz StartedAt: 2025-08-15 10:07:08 -0400 (Fri, 15 Aug 2025) EndedAt: 2025-08-15 10:07:36 -0400 (Fri, 15 Aug 2025) EllapsedTime: 27.8 seconds RetCode: 0 Status: OK PackageFile: riboSeqR_1.42.0.zip PackageFileSize: 3.954 MiB