Package: rhdf5client Version: 1.30.0 Command: /Library/Frameworks/R.framework/Resources/bin/R CMD INSTALL rhdf5client StartedAt: 2025-10-09 15:27:04 -0400 (Thu, 09 Oct 2025) EndedAt: 2025-10-09 15:27:47 -0400 (Thu, 09 Oct 2025) EllapsedTime: 43.4 seconds RetCode: 0 Status: OK