Package: rhdf5 Version: 2.52.1 Command: /home/biocbuild/bbs-3.21-bioc/R/bin/R CMD INSTALL rhdf5 StartedAt: 2025-10-15 15:06:34 -0400 (Wed, 15 Oct 2025) EndedAt: 2025-10-15 15:07:09 -0400 (Wed, 15 Oct 2025) EllapsedTime: 35.7 seconds RetCode: 0 Status: OK