Package: rhdf5 Version: 2.52.1 Command: /Library/Frameworks/R.framework/Resources/bin/R CMD check --install=check:rhdf5.install-out.txt --library=/Library/Frameworks/R.framework/Resources/library --no-vignettes --timings rhdf5_2.52.1.tar.gz StartedAt: 2025-10-14 09:11:35 -0400 (Tue, 14 Oct 2025) EndedAt: 2025-10-14 09:13:16 -0400 (Tue, 14 Oct 2025) EllapsedTime: 101.7 seconds RetCode: 0 Status: WARNINGS CheckDir: rhdf5.Rcheck Warnings: 1