Package: rhdf5 Version: 2.52.1 Command: /home/biocbuild/R/R/bin/R CMD check --install=check:rhdf5.install-out.txt --library=/home/biocbuild/R/R/site-library --no-vignettes --timings rhdf5_2.52.1.tar.gz StartedAt: 2025-10-14 13:16:55 -0000 (Tue, 14 Oct 2025) EndedAt: 2025-10-14 13:17:43 -0000 (Tue, 14 Oct 2025) EllapsedTime: 48.2 seconds RetCode: 0 Status: WARNINGS CheckDir: rhdf5.Rcheck Warnings: 1