Package: rhdf5 Version: 2.52.1 Command: /Library/Frameworks/R.framework/Resources/bin/R CMD check --install=check:rhdf5.install-out.txt --library=/Library/Frameworks/R.framework/Resources/library --no-vignettes --timings rhdf5_2.52.1.tar.gz StartedAt: 2025-10-15 09:44:03 -0400 (Wed, 15 Oct 2025) EndedAt: 2025-10-15 09:45:01 -0400 (Wed, 15 Oct 2025) EllapsedTime: 57.5 seconds RetCode: 0 Status: WARNINGS CheckDir: rhdf5.Rcheck Warnings: 1