Package: rgoslin Version: 1.12.0 Command: E:\biocbuild\bbs-3.21-bioc\R\bin\R.exe CMD check --no-multiarch --install=check:rgoslin.install-out.txt --library=E:\biocbuild\bbs-3.21-bioc\R\library --no-vignettes --timings rgoslin_1.12.0.tar.gz StartedAt: 2025-08-15 06:05:21 -0400 (Fri, 15 Aug 2025) EndedAt: 2025-08-15 06:06:21 -0400 (Fri, 15 Aug 2025) EllapsedTime: 60.2 seconds RetCode: 0 Status: OK CheckDir: rgoslin.Rcheck Warnings: 0