Package: rgoslin Version: 1.12.0 Command: /home/biocbuild/bbs-3.21-bioc/R/bin/R CMD check --install=check:rgoslin.install-out.txt --library=/home/biocbuild/bbs-3.21-bioc/R/site-library --timings rgoslin_1.12.0.tar.gz StartedAt: 2025-10-16 02:49:27 -0400 (Thu, 16 Oct 2025) EndedAt: 2025-10-16 02:50:09 -0400 (Thu, 16 Oct 2025) EllapsedTime: 42.1 seconds RetCode: 0 Status: OK CheckDir: rgoslin.Rcheck Warnings: 0