Package: rgoslin Version: 1.12.0 Command: /home/biocbuild/bbs-3.21-bioc/R/bin/R CMD build --keep-empty-dirs --no-resave-data rgoslin StartedAt: 2025-10-15 19:27:48 -0400 (Wed, 15 Oct 2025) EndedAt: 2025-10-15 19:30:46 -0400 (Wed, 15 Oct 2025) EllapsedTime: 178.2 seconds RetCode: 0 Status: OK PackageFile: rgoslin_1.12.0.tar.gz PackageFileSize: 730.6 KiB