Package: rfaRm Version: 1.20.0 Command: /Library/Frameworks/R.framework/Resources/bin/R CMD INSTALL rfaRm StartedAt: 2025-09-29 16:04:27 -0400 (Mon, 29 Sep 2025) EndedAt: 2025-09-29 16:05:00 -0400 (Mon, 29 Sep 2025) EllapsedTime: 32.7 seconds RetCode: 0 Status: OK