Package: rfaRm Version: 1.20.0 Command: /Library/Frameworks/R.framework/Resources/bin/R CMD build --keep-empty-dirs --no-resave-data rfaRm StartedAt: 2025-09-29 21:58:26 -0400 (Mon, 29 Sep 2025) EndedAt: 2025-09-29 21:59:30 -0400 (Mon, 29 Sep 2025) EllapsedTime: 64.1 seconds RetCode: 0 Status: OK PackageFile: rfaRm_1.20.0.tar.gz PackageFileSize: 562 KiB