Package: rexposome Version: 1.30.0 Command: rm -rf rexposome.buildbin-libdir && mkdir rexposome.buildbin-libdir && /Users/biocbuild/BBS/utils/build-universal.sh rexposome_1.30.0.tar.gz /Library/Frameworks/R.framework/Resources/bin/R rexposome.buildbin-libdir StartedAt: 2025-10-14 14:32:31 -0400 (Tue, 14 Oct 2025) EndedAt: 2025-10-14 14:33:44 -0400 (Tue, 14 Oct 2025) EllapsedTime: 72.9 seconds RetCode: 0 Status: OK PackageFile: rexposome_1.30.0.tgz PackageFileSize: 9.127 MiB