Package: regsplice Version: 1.34.1 Command: /Library/Frameworks/R.framework/Resources/bin/R CMD INSTALL regsplice StartedAt: 2025-10-13 15:42:42 -0400 (Mon, 13 Oct 2025) EndedAt: 2025-10-13 15:43:29 -0400 (Mon, 13 Oct 2025) EllapsedTime: 47.2 seconds RetCode: 0 Status: OK