Package: regsplice Version: 1.34.1 Command: rm -rf regsplice.buildbin-libdir && mkdir regsplice.buildbin-libdir && /Users/biocbuild/BBS/utils/build-universal.sh regsplice_1.34.1.tar.gz /Library/Frameworks/R.framework/Resources/bin/R regsplice.buildbin-libdir StartedAt: 2025-10-14 14:31:40 -0400 (Tue, 14 Oct 2025) EndedAt: 2025-10-14 14:32:41 -0400 (Tue, 14 Oct 2025) EllapsedTime: 61.0 seconds RetCode: 0 Status: OK PackageFile: regsplice_1.34.1.tgz PackageFileSize: 413.9 KiB